BEGIN:VCALENDAR
VERSION:2.0
PRODID:-//Herzl Camp - ECPv6.15.17.1//NONSGML v1.0//EN
CALSCALE:GREGORIAN
METHOD:PUBLISH
X-WR-CALNAME:Herzl Camp
X-ORIGINAL-URL:https://herzlcamp.org
X-WR-CALDESC:Events for Herzl Camp
REFRESH-INTERVAL;VALUE=DURATION:PT1H
X-Robots-Tag:noindex
X-PUBLISHED-TTL:PT1H
BEGIN:VTIMEZONE
TZID:UTC
BEGIN:STANDARD
TZOFFSETFROM:+0000
TZOFFSETTO:+0000
TZNAME:UTC
DTSTART:20240101T000000
END:STANDARD
END:VTIMEZONE
BEGIN:VEVENT
DTSTART;TZID=UTC:20250322T203000
DTEND;TZID=UTC:20250322T203000
DTSTAMP:20260424T052903
CREATED:20240812T161623Z
LAST-MODIFIED:20250212T122123Z
UID:374-1742675400-1742675400@herzlcamp.org
SUMMARY:Herzl in the City's SchmoozeFest 2025
DESCRIPTION:Join chairs Audra and Loren Mintz\, for a night of schmoozing and schtick! It’s all happening in one incredible night filled with laughter\, connection\, and celebration. Whether you’re reconnecting with old friends or making new ones\, come together to honor the magic of Jewish camp and create memories to cherish. Don’t miss this night of schmooze\, schtick\, and so much more! \nDonate
URL:https://herzlcamp.org/event/herzl-camp-event-title/
LOCATION:Oak Ridge Country Club\, Minnetonka
ATTACH;FMTTYPE=image/png:https://herzlcamp.org/wp-content/uploads/2024/12/HITC-Logo-2025-1.png
END:VEVENT
END:VCALENDAR